BEGIN:VCALENDAR
VERSION:2.0
PRODID:-//BDSM an der Leine - ECPv6.15.17.1//NONSGML v1.0//EN
CALSCALE:GREGORIAN
METHOD:PUBLISH
X-WR-CALNAME:BDSM an der Leine
X-ORIGINAL-URL:https://bdsmanderleine.org
X-WR-CALDESC:Veranstaltungen für BDSM an der Leine
REFRESH-INTERVAL;VALUE=DURATION:PT1H
X-Robots-Tag:noindex
X-PUBLISHED-TTL:PT1H
BEGIN:VTIMEZONE
TZID:Europe/Berlin
BEGIN:DAYLIGHT
TZOFFSETFROM:+0100
TZOFFSETTO:+0200
TZNAME:CEST
DTSTART:20250330T010000
END:DAYLIGHT
BEGIN:STANDARD
TZOFFSETFROM:+0200
TZOFFSETTO:+0100
TZNAME:CET
DTSTART:20251026T010000
END:STANDARD
BEGIN:DAYLIGHT
TZOFFSETFROM:+0100
TZOFFSETTO:+0200
TZNAME:CEST
DTSTART:20260329T010000
END:DAYLIGHT
BEGIN:STANDARD
TZOFFSETFROM:+0200
TZOFFSETTO:+0100
TZNAME:CET
DTSTART:20261025T010000
END:STANDARD
BEGIN:DAYLIGHT
TZOFFSETFROM:+0100
TZOFFSETTO:+0200
TZNAME:CEST
DTSTART:20270328T010000
END:DAYLIGHT
BEGIN:STANDARD
TZOFFSETFROM:+0200
TZOFFSETTO:+0100
TZNAME:CET
DTSTART:20271031T010000
END:STANDARD
END:VTIMEZONE
BEGIN:VEVENT
DTSTART;TZID=Europe/Berlin:20260428T203000
DTEND;TZID=Europe/Berlin:20260428T223000
DTSTAMP:20260422T142447
CREATED:20260421T194137Z
LAST-MODIFIED:20260421T194137Z
UID:2046-1777408200-1777415400@bdsmanderleine.org
SUMMARY:Kinky Literatur an der Leine
DESCRIPTION:Willkommen zu einem Abend voller Leidenschaft\, Meinung und literarischem Chaos! Rubina nimmt euch mit auf eine humorvolle Reise durch ihre Bücherwelten\, Fanfiction-Fieber und fantastische (manchmal peinliche) Erotika. \nZwischen charmanten Rants\, spontanen Lachanfällen und witzigen Anekdoten geht es um alles\, was ihr Herz bewegt: von absurden Plot-Twists über Lieblingscharaktere bis hin zu Textstellen\, die man eigentlich nicht laut vorlesen sollte. \nOb ihr mitdiskutieren\, schmunzeln oder einfach gemütlich zuhören wollt – diese Veranstaltung ist für alle\, die Bücher lieben\, Geschichten hinterfragen und über literarische Eskapaden genauso gerne lachen wie schwärmen. \nBringt euer Lieblingsbuch\, eure schlimmste Fanfiction-Erfahrung oder einfach gute Laune mit – Rubina labert\, und ihr seid mittendrin! \nAchtung\, diese Veranstaltung kann Spuren von Patriachatsbashing und Kapitalismuskritik enthalten. \nAm Dienstag\, den 28.04. von 20:30-22:30 Uhr erwarten wir euch im Zoom der Kunst der Unvernunft-Community-Gruppe. Im Zoom moderieren Rubina und Bratapfel (KDU-Community-Moderatorin). Der Vortrag kann auch ohne Kamera und Mikrofon genossen werden\, und Interaktionen sind über Chat möglich. Der Link zum Zoom wird kurz vor dem Vortrag geteilt. Es gelten die Regeln von BDSManderLeine\, über Funkdisziplin und Co bestimmen Rubina\, Bratapfel und andere Teammitglieder. Der Vortrag findet in deutscher Lautsprache statt.
URL:https://bdsmanderleine.org/event/kinky-literatur-an-der-leine/
LOCATION:online
END:VEVENT
END:VCALENDAR