BEGIN:VCALENDAR
VERSION:2.0
PRODID:-//BDSM an der Leine - ECPv6.15.17.1//NONSGML v1.0//EN
CALSCALE:GREGORIAN
METHOD:PUBLISH
X-ORIGINAL-URL:https://bdsmanderleine.org
X-WR-CALDESC:Veranstaltungen für BDSM an der Leine
REFRESH-INTERVAL;VALUE=DURATION:PT1H
X-Robots-Tag:noindex
X-PUBLISHED-TTL:PT1H
BEGIN:VTIMEZONE
TZID:Europe/Berlin
BEGIN:DAYLIGHT
TZOFFSETFROM:+0100
TZOFFSETTO:+0200
TZNAME:CEST
DTSTART:20240331T010000
END:DAYLIGHT
BEGIN:STANDARD
TZOFFSETFROM:+0200
TZOFFSETTO:+0100
TZNAME:CET
DTSTART:20241027T010000
END:STANDARD
BEGIN:DAYLIGHT
TZOFFSETFROM:+0100
TZOFFSETTO:+0200
TZNAME:CEST
DTSTART:20250330T010000
END:DAYLIGHT
BEGIN:STANDARD
TZOFFSETFROM:+0200
TZOFFSETTO:+0100
TZNAME:CET
DTSTART:20251026T010000
END:STANDARD
BEGIN:DAYLIGHT
TZOFFSETFROM:+0100
TZOFFSETTO:+0200
TZNAME:CEST
DTSTART:20260329T010000
END:DAYLIGHT
BEGIN:STANDARD
TZOFFSETFROM:+0200
TZOFFSETTO:+0100
TZNAME:CET
DTSTART:20261025T010000
END:STANDARD
END:VTIMEZONE
BEGIN:VEVENT
DTSTART;TZID=Europe/Berlin:20250118T120000
DTEND;TZID=Europe/Berlin:20250118T140000
DTSTAMP:20260424T073050
CREATED:20241211T194447Z
LAST-MODIFIED:20241211T194703Z
UID:627-1737201600-1737208800@bdsmanderleine.org
SUMMARY:Gesprächskreis: Let's talk about penis!
DESCRIPTION:In diesem Gesprächskreis möchte Schräubchen mit euch gemeinsam über Dinge reden\, über die nicht oft gesprochen wird\, die aber vermutlich jede/n Penisträger*in bereits beschäftigt haben: Performancedruck\, Erektionsstörungen\, zu schnelles oder gar kein Kommen und vieles mehr. \nSchräubchen möchte gemeinsam mit euch aufräumen mit dem Klischee des omnipotenten\, immer sexhungrigen Penisbesitzers und neue Wege eröffnen\, wie wir als männlich sozialisierte Wesen einen anderen\, besseren Umgang mit unserem besten Stück erlangen können. \nDazu wird er einige eigene Anekdoten zum Besten geben und lädt euch ein\, selbst eure Stories beizusteuern. Anschließend wird es die Möglichkeit zu einem gemeinsamen Gesprächskreis mit beiden Gruppen bei Kaffee und Kuchen geben. \nAll genders are welcome. \nAm 18.01. von 12 – 14 Uhr treffen wir uns in der Göttinger Innenstadt\, der genaue Ort wird noch bekannt gegeben. Dieser ist über einen Aufzug rollstuhlgerecht zu erreichen und verfügt über eine genderneutrale\, rollstuhlgerechte Toilette. Der Workshop findet in deutscher Lautsprache statt. Getränke sind gegen geringe Bargeldbeträge zu erwerben. Wie bitten um Spenden für anfallende Kosten und Communityarbeit in Göttingen. \nDas Mindestalter der Teilnehmenden beträgt 18 Jahre.
URL:https://bdsmanderleine.org/event/gespraechskreis-lets-talk-about-penis/
END:VEVENT
BEGIN:VEVENT
DTSTART;TZID=Europe/Berlin:20250118T120000
DTEND;TZID=Europe/Berlin:20250118T140000
DTSTAMP:20260424T073050
CREATED:20241211T194628Z
LAST-MODIFIED:20241211T194628Z
UID:630-1737201600-1737208800@bdsmanderleine.org
SUMMARY:Gesprächskreis: Let’s talk about vulva and vagina!
DESCRIPTION:In diesem Gesprächskreis möchte Rubina mit euch gemeinsam über Dinge reden\, über die nicht oft gesprochen wird\, die aber vermutlich jede Person mit Vulva und Vagina bereits beschäftigt haben: schnelle oder seltene Orgasmen\, Vorspiel\, Libido Ausfluss\, Erregung\, Schmerzen\, Periode und vieles mehr. \nSie möchte gemeinsam mit euch aufräumen mit Klischees – wie dem passiven ‚weiblichen‘ Empfangen von Sexualität und neue Wege eröffnen\, wie wir als weiblich sozialisierte Wesen einen anderen\, besseren Umgang mit unserem Körper erlangen können. \nAnschließend wird es die Möglichkeit zu einem gemeinsamen Gesprächskreis mit beiden Gruppen bei Kaffee und Kuchen geben. \nAll genders are welcome. \nAm 18.01. von 12 – 14 Uhr treffen wir uns in der Göttinger Innenstadt\, der genaue Ort wird noch bekannt gegeben. Dieser ist über einen Aufzug rollstuhlgerecht zu erreichen und verfügt über eine genderneutrale\, rollstuhlgerechte Toilette. Der Workshop findet in deutscher Lautsprache statt. Getränke sind gegen geringe Bargeldbeträge zu erwerben. Wie bitten um Spenden für anfallende Kosten und Communityarbeit in Göttingen. \nDas Mindestalter der Teilnehmenden beträgt 18 Jahre.
URL:https://bdsmanderleine.org/event/gespraechskreis-lets-talk-about-vulva-and-vagina/
END:VEVENT
BEGIN:VEVENT
DTSTART;TZID=Europe/Berlin:20250118T140000
DTEND;TZID=Europe/Berlin:20250118T160000
DTSTAMP:20260424T073050
CREATED:20241211T195055Z
LAST-MODIFIED:20241211T201207Z
UID:634-1737208800-1737216000@bdsmanderleine.org
SUMMARY:Körperbild an der Leine
DESCRIPTION:Anschließend an die beiden Gesprächskreise zu den Themen Vulva und Vagina und Penis wollen Rubina und Schräubchen sich gemeinsam in einer Gruppe zusammensetzen und bei Kaffee und Kuchen weiter quatschen. In gemütlicher Runde könnt ihr euch weiter zu allen Themen rund um Genitalien austauschen. Bringt dafür gerne Snacks\, Kuchen\, Kekse oder ähnliches mit. Eine Teilnahme an den Gesprächskreisen davor ist sinnvoll\, aber keine Voraussetzung. \nAll genders are welcome. \nAm 18.01. von 14 – 16 Uhr treffen wir uns in der Göttinger Innenstadt\, der genaue Ort wird noch bekannt gegeben. Dieser ist über einen Aufzug rollstuhlgerecht zu erreichen und verfügt über eine genderneutrale\, rollstuhlgerechte Toilette. Der Workshop findet in deutscher Lautsprache statt. Getränke sind gegen geringe Bargeldbeträge zu erwerben. Wie bitten um Spenden für anfallende Kosten und Communityarbeit in Göttingen. \nDas Mindestalter der Teilnehmenden beträgt 18 Jahre.
URL:https://bdsmanderleine.org/event/koerperbild-an-der-leine/
END:VEVENT
END:VCALENDAR